BEGIN:VCALENDAR
VERSION:2.0
PRODID:-//wp-events-plugin.com//7.2.3.1//EN
TZID:Europe/Berlin
X-WR-TIMEZONE:Europe/Berlin
BEGIN:VEVENT
UID:7@ssvdielheim.de
DTSTART;TZID=Europe/Berlin:20260207T150000
DTEND;TZID=Europe/Berlin:20260207T210000
DTSTAMP:20260110T155148Z
URL:https://ssvdielheim.de/events/hubertusschiessen/
SUMMARY:Hubertusschießen
DESCRIPTION:Hubertus-Schießen am 07.02.2026\nAm Samstag\, den 07.02.2026\,
  findet auf dem 50-Meter-KK-Stand das Hubertus-Schießen um die von Otto B
 raun gestiftete Wandertrophäe „Bronze-Keiler“ statt. Zugelassen sind 
 Kleinkalibergewehre im Kaliberbereich .22 lfB bis .222.Ausschreibung-H-Sch
 iessen.pdf​\nGeschossen werden 3 Schuss\, Anschlag beliebig\, auf die Wi
 ldschweinscheibe. Gewertet wird das beste Gesamtergebnis\, wobei die getro
 ffene Zehn mit Minus in die Wertung eingeht.Ausschreibung-H-Schiessen.pdf
 ​\nDie Startgebühr beträgt 3 € mit eigener Waffe und eigener Munitio
 n sowie 3 € bei Nutzung der Vereinswaffe mit gestellter Munition. Die Sc
 hießzeiten sind von 15:00 bis 19:00 Uhr\, die Siegerehrung mit Preisverle
 ihung ist für etwa 20:00 Uhr vorgesehen.Ausschreibung-H-Schiessen.pdf​\
 nDie Verwendung der Startgelder erfolgt als Spende für einen guten Zweck\
 ; der Empfänger wird von den Anwesenden unmittelbar vor der Siegerehrung 
 festgelegt.\nAusschreibung H-Schießen
ATTACH;FMTTYPE=image/jpeg:https://ssvdielheim.de/wp-content/uploads/2025/1
 0/a4724182-7d04-4d6d-8110-7f3f702499f8-1.png
LOCATION:https://maps.app.goo.gl/GzCLJHWtprbjHaaQ6
END:VEVENT
BEGIN:VTIMEZONE
TZID:Europe/Berlin
X-LIC-LOCATION:Europe/Berlin
BEGIN:STANDARD
DTSTART:20251026T020000
TZOFFSETFROM:+0200
TZOFFSETTO:+0100
TZNAME:CET
END:STANDARD
END:VTIMEZONE
END:VCALENDAR