BEGIN:VCALENDAR
VERSION:2.0
PRODID:-//wp-events-plugin.com//7.2.3.1//EN
TZID:Europe/Berlin
X-WR-TIMEZONE:Europe/Berlin
BEGIN:VEVENT
UID:11@ssvdielheim.de
DTSTART;TZID=Europe/Berlin:20260313T193000
DTEND;TZID=Europe/Berlin:20260313T220000
DTSTAMP:20260122T081201Z
URL:https://ssvdielheim.de/events/jahreshauptversammlung-mit-ehrungen/
SUMMARY:Jahreshauptversammlung mit Ehrungen
DESCRIPTION:Einladung Jahreshauptversammlung 2026\nDer Sportschützenverein
  Dielheim 1967 e.V. lädt alle Mitglieder zur Jahreshauptversammlung 2026 
 am Freitag\, den 13. März 2026\, um 19:30 Uhr im Schützenhaus Dielheim
  ein.​\n\nTagesordnung\n\n 	Begrüßung durch OSM Alexander Frank\n 	To
 tenehrung\n 	Verlesen und Genehmigung des Protokolls 2023\n 	Jahresrückbl
 ick OSM\n 	Bericht des Schriftführers\n 	Bericht des Schatzmeisters\n 	Be
 richt des Sportleiters\n 	Bericht der Damenleiterin\n 	Bericht des Gewehrr
 eferenten\n 	Bericht des Pistolenreferenten\n 	Bericht des Schwarzpulverre
 ferenten\n 	Bericht des Jugendreferenten\n 	Bericht Vergnügungsausschuss\
 n 	Bericht der Kassenprüfer und Entlastung des Schatzmeisters\n 	Entlastu
 ng des Gesamtvorstandes\n 	Ehrungen\n 	Verschiedenes – Anträge\, Wünsc
 he und Anregungen\n 	Schlusswort\n\nHinweise zu Anträgen\nAnträge an die
  Hauptversammlung können schriftlich bis zum 20.02.2026 an\nAlexander F
 rank gerichtet werden.
ATTACH;FMTTYPE=image/jpeg:https://ssvdielheim.de/wp-content/uploads/2026/0
 1/2026-Jahreshauptversammlung.png
LOCATION:https://maps.app.goo.gl/GzCLJHWtprbjHaaQ6
END:VEVENT
BEGIN:VTIMEZONE
TZID:Europe/Berlin
X-LIC-LOCATION:Europe/Berlin
BEGIN:STANDARD
DTSTART:20251026T020000
TZOFFSETFROM:+0200
TZOFFSETTO:+0100
TZNAME:CET
END:STANDARD
END:VTIMEZONE
END:VCALENDAR