BEGIN:VCALENDAR
VERSION:2.0
PRODID:-//wp-events-plugin.com//7.2.3.1//EN
TZID:Europe/Berlin
X-WR-TIMEZONE:Europe/Berlin
BEGIN:VEVENT
UID:10@ssvdielheim.de
DTSTART;TZID=Europe/Berlin:20260221T000000
DTEND;TZID=Europe/Berlin:20260221T000000
DTSTAMP:20251020T144041Z
URL:https://ssvdielheim.de/events/kreis-meisterschaft-luftgewehr/
SUMMARY:Kreis Meisterschaft Luftgewehr
DESCRIPTION:SAVE THE DATE
ATTACH;FMTTYPE=image/jpeg:https://ssvdielheim.de/wp-content/uploads/2025/0
 7/Luftgewehrhalle-7-scaled.jpg
LOCATION:https://maps.app.goo.gl/GzCLJHWtprbjHaaQ6
END:VEVENT
BEGIN:VTIMEZONE
TZID:Europe/Berlin
X-LIC-LOCATION:Europe/Berlin
BEGIN:STANDARD
DTSTART:20251026T020000
TZOFFSETFROM:+0200
TZOFFSETTO:+0100
TZNAME:CET
END:STANDARD
END:VTIMEZONE
END:VCALENDAR