BEGIN:VCALENDAR
VERSION:2.0
PRODID:-//wp-events-plugin.com//7.2.3.1//EN
TZID:Europe/Berlin
X-WR-TIMEZONE:Europe/Berlin
BEGIN:VEVENT
UID:9@ssvdielheim.de
DTSTART;TZID=Europe/Berlin:20260206T193000
DTEND;TZID=Europe/Berlin:20260206T213000
DTSTAMP:20251020T143016Z
URL:https://ssvdielheim.de/events/vorstandssitzung-2/
SUMMARY:Vorstandssitzung
DESCRIPTION:
ATTACH;FMTTYPE=image/jpeg:https://ssvdielheim.de/wp-content/uploads/2025/1
 0/6aac288d-8a71-4347-9fb4-38f693f4d7d0-1.png
LOCATION:https://maps.app.goo.gl/GzCLJHWtprbjHaaQ6
END:VEVENT
BEGIN:VTIMEZONE
TZID:Europe/Berlin
X-LIC-LOCATION:Europe/Berlin
BEGIN:STANDARD
DTSTART:20251026T020000
TZOFFSETFROM:+0200
TZOFFSETTO:+0100
TZNAME:CET
END:STANDARD
END:VTIMEZONE
END:VCALENDAR